BEGIN:VCALENDAR
VERSION:2.0
PRODID:-//pretix//pretix.eu//
BEGIN:VTIMEZONE
TZID:Europe/Berlin
BEGIN:STANDARD
DTSTART:20001029T040000
RRULE:FREQ=YEARLY;BYDAY=-1SU;BYMONTH=10
TZNAME:CET
TZOFFSETFROM:+0200
TZOFFSETTO:+0100
END:STANDARD
BEGIN:DAYLIGHT
DTSTART:20000326T030000
RRULE:FREQ=YEARLY;BYDAY=-1SU;BYMONTH=3
TZNAME:CEST
TZOFFSETFROM:+0100
TZOFFSETTO:+0200
END:DAYLIGHT
END:VTIMEZONE
BEGIN:VEVENT
UID:pretix-stummerschrei-Viktoria-0@tickets.stummerschrei.at
DTSTART;TZID=Europe/Berlin:20250629T190000
DTEND;TZID=Europe/Berlin:20250629T210000
DESCRIPTION:Tickets: https://tickets.stummerschrei.at/Viktoria/\nEinlass: 2
 9.06.2025 19:00\nVeranstalter: Kulturfestival stummer schrei
DTSTAMP:20260425T012338Z
LOCATION:Pfarrkirche Stumm
SUMMARY:Viktoria Hirschhuber Klavierrezital *Benefizkonzert*
END:VEVENT
END:VCALENDAR
