BEGIN:VCALENDAR
VERSION:2.0
PRODID:-//pretix//pretix.eu//
BEGIN:VTIMEZONE
TZID:Europe/Berlin
BEGIN:STANDARD
DTSTART:20001029T040000
RRULE:FREQ=YEARLY;BYDAY=-1SU;BYMONTH=10
TZNAME:CET
TZOFFSETFROM:+0200
TZOFFSETTO:+0100
END:STANDARD
BEGIN:DAYLIGHT
DTSTART:20000326T030000
RRULE:FREQ=YEARLY;BYDAY=-1SU;BYMONTH=3
TZNAME:CEST
TZOFFSETFROM:+0100
TZOFFSETTO:+0200
END:DAYLIGHT
END:VTIMEZONE
BEGIN:VEVENT
UID:pretix-stummerschrei-Bluatschink-0@tickets.stummerschrei.at
DTSTART;TZID=Europe/Berlin:20250626T200000
DTEND;TZID=Europe/Berlin:20250626T230000
DESCRIPTION:Tickets: https://tickets.stummerschrei.at/Bluatschink/\nEinlass
 : 27.05.2025 19:00\nVeranstalter: Kulturfestival stummer schrei
DTSTAMP:20260425T010637Z
LOCATION:Dorfbäckstadl\, 6275 Stumm im Zillertal
SUMMARY:Bluatschink "Der Schöne und das Biest"
END:VEVENT
END:VCALENDAR
